BEGIN:VCALENDAR
VERSION:2.0
PRODID:-//Repair Café Fribourg - ECPv6.15.20//NONSGML v1.0//EN
CALSCALE:GREGORIAN
METHOD:PUBLISH
X-ORIGINAL-URL:https://repaircafefribourg.ch/?lang=de
X-WR-CALDESC:Veranstaltungen für Repair Café Fribourg
REFRESH-INTERVAL;VALUE=DURATION:PT1H
X-Robots-Tag:noindex
X-PUBLISHED-TTL:PT1H
BEGIN:VTIMEZONE
TZID:Europe/Paris
BEGIN:DAYLIGHT
TZOFFSETFROM:+0100
TZOFFSETTO:+0200
TZNAME:CEST
DTSTART:20230326T010000
END:DAYLIGHT
BEGIN:STANDARD
TZOFFSETFROM:+0200
TZOFFSETTO:+0100
TZNAME:CET
DTSTART:20231029T010000
END:STANDARD
BEGIN:DAYLIGHT
TZOFFSETFROM:+0100
TZOFFSETTO:+0200
TZNAME:CEST
DTSTART:20240331T010000
END:DAYLIGHT
BEGIN:STANDARD
TZOFFSETFROM:+0200
TZOFFSETTO:+0100
TZNAME:CET
DTSTART:20241027T010000
END:STANDARD
BEGIN:DAYLIGHT
TZOFFSETFROM:+0100
TZOFFSETTO:+0200
TZNAME:CEST
DTSTART:20250330T010000
END:DAYLIGHT
BEGIN:STANDARD
TZOFFSETFROM:+0200
TZOFFSETTO:+0100
TZNAME:CET
DTSTART:20251026T010000
END:STANDARD
END:VTIMEZONE
BEGIN:VEVENT
DTSTART;TZID=Europe/Paris:20240302T140000
DTEND;TZID=Europe/Paris:20240302T180000
DTSTAMP:20260424T172234
CREATED:20240219T182423Z
LAST-MODIFIED:20240219T182423Z
UID:1884-1709388000-1709402400@repaircafefribourg.ch
SUMMARY:Repair Café im MIY MakerSpace\, Bd de Pérolles 13a\, 1700 Freiburg\, Samstag 2. März 2024
DESCRIPTION:Liebe Besucher\, liebe Freiwillige und liebe Reparateure! \nHier können Sie sich jetzt anmelden : Anmeldeformular. \nNB: Registrierte Besucher haben Vorrang.
URL:https://repaircafefribourg.ch/event/repair-cafe-im-miy-makerspace-bd-de-perolles-13a-1700-freiburg-samstag-2-maerz-2024/?lang=de
LOCATION:MakerSpace\, Bd de Pérolles 13a\, Fribourg\, 1700\, Suisse
END:VEVENT
END:VCALENDAR